BEGIN:VCALENDAR
VERSION:2.0
PRODID:-//VV Wacker - ECPv6.15.16//NONSGML v1.0//EN
CALSCALE:GREGORIAN
METHOD:PUBLISH
X-WR-CALNAME:VV Wacker
X-ORIGINAL-URL:https://vvwacker.nl
X-WR-CALDESC:Evenementen voor VV Wacker
REFRESH-INTERVAL;VALUE=DURATION:PT1H
X-Robots-Tag:noindex
X-PUBLISHED-TTL:PT1H
BEGIN:VTIMEZONE
TZID:Europe/Paris
BEGIN:DAYLIGHT
TZOFFSETFROM:+0100
TZOFFSETTO:+0200
TZNAME:CEST
DTSTART:20170326T010000
END:DAYLIGHT
BEGIN:STANDARD
TZOFFSETFROM:+0200
TZOFFSETTO:+0100
TZNAME:CET
DTSTART:20171029T010000
END:STANDARD
BEGIN:DAYLIGHT
TZOFFSETFROM:+0100
TZOFFSETTO:+0200
TZNAME:CEST
DTSTART:20180325T010000
END:DAYLIGHT
BEGIN:STANDARD
TZOFFSETFROM:+0200
TZOFFSETTO:+0100
TZNAME:CET
DTSTART:20181028T010000
END:STANDARD
BEGIN:DAYLIGHT
TZOFFSETFROM:+0100
TZOFFSETTO:+0200
TZNAME:CEST
DTSTART:20190331T010000
END:DAYLIGHT
BEGIN:STANDARD
TZOFFSETFROM:+0200
TZOFFSETTO:+0100
TZNAME:CET
DTSTART:20191027T010000
END:STANDARD
BEGIN:DAYLIGHT
TZOFFSETFROM:+0100
TZOFFSETTO:+0200
TZNAME:CEST
DTSTART:20200329T010000
END:DAYLIGHT
BEGIN:STANDARD
TZOFFSETFROM:+0200
TZOFFSETTO:+0100
TZNAME:CET
DTSTART:20201025T010000
END:STANDARD
END:VTIMEZONE
BEGIN:VEVENT
DTSTART;VALUE=DATE:20191127
DTEND;VALUE=DATE:20191128
DTSTAMP:20260424T153112
CREATED:20191015T082417Z
LAST-MODIFIED:20191015T082417Z
UID:9242-1574812800-1574899199@vvwacker.nl
SUMMARY:Sint middag JO7/8/9
DESCRIPTION:
URL:https://vvwacker.nl/event/sint-middag-jo7-8-9/
CATEGORIES:WIJC
END:VEVENT
BEGIN:VEVENT
DTSTART;TZID=Europe/Paris:20191112T194500
DTEND;TZID=Europe/Paris:20191112T194500
DTSTAMP:20260424T153112
CREATED:20191104T134758Z
LAST-MODIFIED:20191104T165750Z
UID:9034-1573587900-1573587900@vvwacker.nl
SUMMARY:Wacker 1 - Vitesse 1 oefenwedstrijd
DESCRIPTION:
URL:https://vvwacker.nl/event/wacker-1-zzvv-oefen/
END:VEVENT
BEGIN:VEVENT
DTSTART;TZID=Europe/Paris:20191018T190000
DTEND;TZID=Europe/Paris:20191018T190000
DTSTAMP:20260424T153112
CREATED:20190831T173648Z
LAST-MODIFIED:20190831T173648Z
UID:9097-1571425200-1571425200@vvwacker.nl
SUMMARY:Dames wedstrijden in De Wijk
DESCRIPTION:
URL:https://vvwacker.nl/event/dames-wedstrijden-in-de-wijk/
CATEGORIES:Overzicht
END:VEVENT
BEGIN:VEVENT
DTSTART;TZID=Europe/Paris:20191004T190000
DTEND;TZID=Europe/Paris:20191004T190000
DTSTAMP:20260424T153112
CREATED:20190831T173448Z
LAST-MODIFIED:20190831T173448Z
UID:9093-1570215600-1570215600@vvwacker.nl
SUMMARY:45+ wedstrijden in De Wijk
DESCRIPTION:
URL:https://vvwacker.nl/event/45-wedstrijden-in-de-wijk/
CATEGORIES:Overzicht
END:VEVENT
BEGIN:VEVENT
DTSTART;VALUE=DATE:20190921
DTEND;VALUE=DATE:20190922
DTSTAMP:20260424T153112
CREATED:20190621T090233Z
LAST-MODIFIED:20190621T090233Z
UID:8984-1569024000-1569110399@vvwacker.nl
SUMMARY:WIJC begin comp.
DESCRIPTION:
URL:https://vvwacker.nl/event/wijc-begin-comp/
CATEGORIES:WIJC
END:VEVENT
BEGIN:VEVENT
DTSTART;TZID=Europe/Paris:20190903T193000
DTEND;TZID=Europe/Paris:20190903T193000
DTSTAMP:20260424T153112
CREATED:20190821T183552Z
LAST-MODIFIED:20190821T183552Z
UID:9063-1567539000-1567539000@vvwacker.nl
SUMMARY:Wacker 1 - ZZVV 1 oefen
DESCRIPTION:
URL:https://vvwacker.nl/event/wacker-1-zzvv-1-oefen/
END:VEVENT
BEGIN:VEVENT
DTSTART;VALUE=DATE:20190831
DTEND;VALUE=DATE:20190901
DTSTAMP:20260424T153112
CREATED:20190621T090112Z
LAST-MODIFIED:20190621T090255Z
UID:8982-1567209600-1567295999@vvwacker.nl
SUMMARY:WIJC bekerwedstrijden
DESCRIPTION:
URL:https://vvwacker.nl/event/wijc-bekerwedstrijden/
CATEGORIES:WIJC
END:VEVENT
BEGIN:VEVENT
DTSTART;TZID=Europe/Paris:20190827T190000
DTEND;TZID=Europe/Paris:20190827T190000
DTSTAMP:20260424T153112
CREATED:20190821T183905Z
LAST-MODIFIED:20190821T183905Z
UID:9067-1566932400-1566932400@vvwacker.nl
SUMMARY:WIJC/Vitesse JO17-1 - FC Meppel JO17-1 oefen
DESCRIPTION:
URL:https://vvwacker.nl/event/wijc-vitesse-jo17-1-fc-meppel-jo17-1-oefen/
END:VEVENT
BEGIN:VEVENT
DTSTART;TZID=Europe/Paris:20190825T140000
DTEND;TZID=Europe/Paris:20190825T140000
DTSTAMP:20260424T153112
CREATED:20190821T183317Z
LAST-MODIFIED:20190821T183317Z
UID:9059-1566741600-1566741600@vvwacker.nl
SUMMARY:Wacker 1 - OranjeZwart 1 oefen
DESCRIPTION:
URL:https://vvwacker.nl/event/wacker-1-oranjezwart-1-oefen/
END:VEVENT
BEGIN:VEVENT
DTSTART;TZID=Europe/Paris:20190825T110000
DTEND;TZID=Europe/Paris:20190825T110000
DTSTAMP:20260424T153112
CREATED:20190821T183724Z
LAST-MODIFIED:20190821T183724Z
UID:9065-1566730800-1566730800@vvwacker.nl
SUMMARY:Wacker 2 - Balkbrug 2 oefen
DESCRIPTION:
URL:https://vvwacker.nl/event/wacker-2-balkbrug-2-oefen/
END:VEVENT
BEGIN:VEVENT
DTSTART;TZID=Europe/Paris:20190811T103000
DTEND;TZID=Europe/Paris:20190811T103000
DTSTAMP:20260424T153112
CREATED:20190719T170753Z
LAST-MODIFIED:20190719T170753Z
UID:9025-1565519400-1565519400@vvwacker.nl
SUMMARY:1e training selectie
DESCRIPTION:
URL:https://vvwacker.nl/event/1e-training-selectie/
END:VEVENT
BEGIN:VEVENT
DTSTART;TZID=Europe/Paris:20190601T173000
DTEND;TZID=Europe/Paris:20190601T173000
DTSTAMP:20260424T153112
CREATED:20190527T090910Z
LAST-MODIFIED:20190527T090910Z
UID:8936-1559410200-1559410200@vvwacker.nl
SUMMARY:Familiedag
DESCRIPTION:
URL:https://vvwacker.nl/event/familiedag/
END:VEVENT
BEGIN:VEVENT
DTSTART;VALUE=DATE:20190601
DTEND;VALUE=DATE:20190602
DTSTAMP:20260424T153112
CREATED:20170326T103641Z
LAST-MODIFIED:20190114T093225Z
UID:5791-1559347200-1559433599@vvwacker.nl
SUMMARY:WIJC toernooi JO7-JO15
DESCRIPTION:
URL:https://vvwacker.nl/event/wijc-toernooi/
END:VEVENT
BEGIN:VEVENT
DTSTART;VALUE=DATE:20190531
DTEND;VALUE=DATE:20190601
DTSTAMP:20260424T153112
CREATED:20180501T083846Z
LAST-MODIFIED:20190114T093419Z
UID:5793-1559260800-1559347199@vvwacker.nl
SUMMARY:WIJC toernooi JO17 en JO19
DESCRIPTION:
URL:https://vvwacker.nl/event/wijc-toernooi-jo17/
END:VEVENT
BEGIN:VEVENT
DTSTART;TZID=Europe/Paris:20190309T193000
DTEND;TZID=Europe/Paris:20190309T193000
DTSTAMP:20260424T153112
CREATED:20190214T172912Z
LAST-MODIFIED:20190214T172912Z
UID:8681-1552159800-1552159800@vvwacker.nl
SUMMARY:Wieker pubquiz
DESCRIPTION:
URL:https://vvwacker.nl/event/wieker-pubquiz/
CATEGORIES:Overzicht
END:VEVENT
BEGIN:VEVENT
DTSTART;TZID=Europe/Paris:20190127T123000
DTEND;TZID=Europe/Paris:20190127T123000
DTSTAMP:20260424T153112
CREATED:20190126T152607Z
LAST-MODIFIED:20190126T152607Z
UID:8639-1548592200-1548592200@vvwacker.nl
SUMMARY:Oefenwedstrijd USV1 - Wacker1
DESCRIPTION:
URL:https://vvwacker.nl/event/oefenwedstrijd-usv1-wacker1/
END:VEVENT
BEGIN:VEVENT
DTSTART;VALUE=DATE:20190106
DTEND;VALUE=DATE:20190107
DTSTAMP:20260424T153112
CREATED:20181216T100244Z
LAST-MODIFIED:20181216T105046Z
UID:710-1546732800-1546819199@vvwacker.nl
SUMMARY:Nieuwjaarsreceptie
DESCRIPTION:
URL:https://vvwacker.nl/event/nieuwjaars-wedstrijd/
LOCATION:VV Wacker\, Wiltenweg 1a\, de Wijk\, Drenthe\, 7957\, Nederland
END:VEVENT
BEGIN:VEVENT
DTSTART;VALUE=DATE:20181210
DTEND;VALUE=DATE:20181211
DTSTAMP:20260424T153112
CREATED:20181117T151555Z
LAST-MODIFIED:20181117T151555Z
UID:8305-1544400000-1544486399@vvwacker.nl
SUMMARY:Begin zaaltrainingen
DESCRIPTION:
URL:https://vvwacker.nl/event/begin-zaaltrainingen/
END:VEVENT
BEGIN:VEVENT
DTSTART;VALUE=DATE:20181128
DTEND;VALUE=DATE:20181129
DTSTAMP:20260424T153112
CREATED:20181117T092027Z
LAST-MODIFIED:20181117T151042Z
UID:4780-1543363200-1543449599@vvwacker.nl
SUMMARY:Sinterklaas feest
DESCRIPTION:
URL:https://vvwacker.nl/event/sinterklaas-feest-jo9-pupillen/
END:VEVENT
BEGIN:VEVENT
DTSTART;TZID=Europe/Paris:20181003T160000
DTEND;TZID=Europe/Paris:20181003T160000
DTSTAMP:20260424T153112
CREATED:20180917T095516Z
LAST-MODIFIED:20180917T090359Z
UID:6290-1538582400-1538582400@vvwacker.nl
SUMMARY:Pannenkoeken toernooi
DESCRIPTION:
URL:https://vvwacker.nl/event/pannenkoeken-toernooi/
LOCATION:VV Wacker\, Wiltenweg 1a\, de Wijk\, Drenthe\, 7957\, Nederland
CATEGORIES:WIJC
END:VEVENT
BEGIN:VEVENT
DTSTART;TZID=Europe/Paris:20180608T190000
DTEND;TZID=Europe/Paris:20180608T190000
DTSTAMP:20260424T153112
CREATED:20160321T181150Z
LAST-MODIFIED:20180604T155357Z
UID:3599-1528484400-1528484400@vvwacker.nl
SUMMARY:Wacker 45+ (7X7) in Koekange
DESCRIPTION:Wedstrijdnummer\nWedstrijddatum (niet geformatteerd)\nAanvangstijd\nThuis team\nUit team\nAccommodatie naam\nPlaats\nscheids
URL:https://vvwacker.nl/event/wacker-45-7x7-bij-vitesse/
END:VEVENT
BEGIN:VEVENT
DTSTART;VALUE=DATE:20180604
DTEND;VALUE=DATE:20180605
DTSTAMP:20260424T153112
CREATED:20180517T104322Z
LAST-MODIFIED:20180517T104623Z
UID:7613-1528070400-1528156799@vvwacker.nl
SUMMARY:Wacker accommodatie gesloten
DESCRIPTION:
URL:https://vvwacker.nl/event/wacker-accommodatie-gesloten/
END:VEVENT
BEGIN:VEVENT
DTSTART;TZID=Europe/Paris:20180602T163000
DTEND;TZID=Europe/Paris:20180602T163000
DTSTAMP:20260424T153112
CREATED:20180501T085817Z
LAST-MODIFIED:20180501T085817Z
UID:7549-1527957000-1527957000@vvwacker.nl
SUMMARY:Familiedag Wacker en WIJC
DESCRIPTION:
URL:https://vvwacker.nl/event/familiedag-wacker-en-wijc/
END:VEVENT
BEGIN:VEVENT
DTSTART;TZID=Europe/Paris:20180601T190000
DTEND;TZID=Europe/Paris:20180601T190000
DTSTAMP:20260424T153112
CREATED:20150420T113434Z
LAST-MODIFIED:20180527T075446Z
UID:1864-1527879600-1527879600@vvwacker.nl
SUMMARY:Wacker 35+ (7X7) in Meppel
DESCRIPTION:
URL:https://vvwacker.nl/event/wacker-35-7x7-te-blokzijl/
CATEGORIES:Bekerwedstrijd
END:VEVENT
BEGIN:VEVENT
DTSTART;TZID=Europe/Paris:20180522T201500
DTEND;TZID=Europe/Paris:20180522T201500
DTSTAMP:20260424T153112
CREATED:20180517T122601Z
LAST-MODIFIED:20180517T122601Z
UID:7619-1527020100-1527020100@vvwacker.nl
SUMMARY:Informatieavond voor samenwerking
DESCRIPTION:
URL:https://vvwacker.nl/event/informatieavond-voor-samenwerking/
CATEGORIES:WIJC
END:VEVENT
BEGIN:VEVENT
DTSTART;TZID=Europe/Paris:20180406T200000
DTEND;TZID=Europe/Paris:20180406T200000
DTSTAMP:20260424T153112
CREATED:20150408T100640Z
LAST-MODIFIED:20180401T181527Z
UID:331-1523044800-1523044800@vvwacker.nl
SUMMARY:Kaart avond prijsuitreiking
DESCRIPTION:Inlichtingen bij supportersvereniging
URL:https://vvwacker.nl/event/kaart-avond/
LOCATION:VV Wacker\, Wiltenweg 1a\, de Wijk\, Drenthe\, 7957\, Nederland
CATEGORIES:Kaarten
END:VEVENT
BEGIN:VEVENT
DTSTART;TZID=Europe/Paris:20180323T190000
DTEND;TZID=Europe/Paris:20180323T190000
DTSTAMP:20260424T153112
CREATED:20160321T180029Z
LAST-MODIFIED:20180312T091619Z
UID:3598-1521831600-1521831600@vvwacker.nl
SUMMARY:Wacker 35+ (7X7) bij Rouveen
DESCRIPTION:VRIJDAG 23 MAART 20184e ronde\n\nVitesse’63 35+1\n\n\n20:05\n\nWacker 35+1\n\n\n\n\n\n\n\n\n\n\n\n\n\n\nVRIJDAG 23 MAART 20185e ronde\n\nWacker 35+1\n\n\n21:15\n\n\nDESZ 35+1
URL:https://vvwacker.nl/event/wacker-35/
END:VEVENT
BEGIN:VEVENT
DTSTART;TZID=Europe/Paris:20180323T190000
DTEND;TZID=Europe/Paris:20180323T190000
DTSTAMP:20260424T153112
CREATED:20150420T113528Z
LAST-MODIFIED:20180319T100538Z
UID:1865-1521831600-1521831600@vvwacker.nl
SUMMARY:Wacker 45+ (7X7) bij De Weide
DESCRIPTION:VRIJDAG 23 MAART 20186e ronde\n\nSJO WIJC 45+1\n\n\n20:00\n\n\n\n\n\n\n\n\nDe Weide 45+2\n\n\n\n\n\nVRIJDAG 23 MAART 201819e ronde\n\n\n\n\n\n\n\n\n\nDe Weide 45+1\n\n\n21:30\n\nSJO WIJC 45+1
URL:https://vvwacker.nl/event/wacker-45-7x7-te-koekange/
CATEGORIES:Bekerwedstrijd
END:VEVENT
BEGIN:VEVENT
DTSTART;TZID=Europe/Paris:20180220T193000
DTEND;TZID=Europe/Paris:20180220T193000
DTSTAMP:20260424T153112
CREATED:20180218T185213Z
LAST-MODIFIED:20180218T185213Z
UID:7274-1519155000-1519155000@vvwacker.nl
SUMMARY:Sport EHBO
DESCRIPTION:door Jacques Smits
URL:https://vvwacker.nl/event/sport-ehbo/
LOCATION:VV Wacker\, Wiltenweg 1a\, de Wijk\, Drenthe\, 7957\, Nederland
CATEGORIES:Overzicht
END:VEVENT
BEGIN:VEVENT
DTSTART;TZID=Europe/Paris:20180114T140000
DTEND;TZID=Europe/Paris:20180114T140000
DTSTAMP:20260424T153112
CREATED:20150809T094232Z
LAST-MODIFIED:20180110T182109Z
UID:2081-1515938400-1515938400@vvwacker.nl
SUMMARY:Oefen USV 1-Wacker 1
DESCRIPTION:
URL:https://vvwacker.nl/event/oefenwedstrijd-wacker-vitesse63/
END:VEVENT
END:VCALENDAR