BEGIN:VCALENDAR
VERSION:2.0
PRODID:-//VV Wacker - ECPv6.15.16//NONSGML v1.0//EN
CALSCALE:GREGORIAN
METHOD:PUBLISH
X-WR-CALNAME:VV Wacker
X-ORIGINAL-URL:https://vvwacker.nl
X-WR-CALDESC:Evenementen voor VV Wacker
REFRESH-INTERVAL;VALUE=DURATION:PT1H
X-Robots-Tag:noindex
X-PUBLISHED-TTL:PT1H
BEGIN:VTIMEZONE
TZID:Europe/Paris
BEGIN:DAYLIGHT
TZOFFSETFROM:+0100
TZOFFSETTO:+0200
TZNAME:CEST
DTSTART:20190331T010000
END:DAYLIGHT
BEGIN:STANDARD
TZOFFSETFROM:+0200
TZOFFSETTO:+0100
TZNAME:CET
DTSTART:20191027T010000
END:STANDARD
BEGIN:DAYLIGHT
TZOFFSETFROM:+0100
TZOFFSETTO:+0200
TZNAME:CEST
DTSTART:20200329T010000
END:DAYLIGHT
BEGIN:STANDARD
TZOFFSETFROM:+0200
TZOFFSETTO:+0100
TZNAME:CET
DTSTART:20201025T010000
END:STANDARD
BEGIN:DAYLIGHT
TZOFFSETFROM:+0100
TZOFFSETTO:+0200
TZNAME:CEST
DTSTART:20210328T010000
END:DAYLIGHT
BEGIN:STANDARD
TZOFFSETFROM:+0200
TZOFFSETTO:+0100
TZNAME:CET
DTSTART:20211031T010000
END:STANDARD
BEGIN:DAYLIGHT
TZOFFSETFROM:+0100
TZOFFSETTO:+0200
TZNAME:CEST
DTSTART:20220327T010000
END:DAYLIGHT
BEGIN:STANDARD
TZOFFSETFROM:+0200
TZOFFSETTO:+0100
TZNAME:CET
DTSTART:20221030T010000
END:STANDARD
BEGIN:DAYLIGHT
TZOFFSETFROM:+0100
TZOFFSETTO:+0200
TZNAME:CEST
DTSTART:20230326T010000
END:DAYLIGHT
BEGIN:STANDARD
TZOFFSETFROM:+0200
TZOFFSETTO:+0100
TZNAME:CET
DTSTART:20231029T010000
END:STANDARD
BEGIN:DAYLIGHT
TZOFFSETFROM:+0100
TZOFFSETTO:+0200
TZNAME:CEST
DTSTART:20240331T010000
END:DAYLIGHT
BEGIN:STANDARD
TZOFFSETFROM:+0200
TZOFFSETTO:+0100
TZNAME:CET
DTSTART:20241027T010000
END:STANDARD
BEGIN:DAYLIGHT
TZOFFSETFROM:+0100
TZOFFSETTO:+0200
TZNAME:CEST
DTSTART:20250330T010000
END:DAYLIGHT
BEGIN:STANDARD
TZOFFSETFROM:+0200
TZOFFSETTO:+0100
TZNAME:CET
DTSTART:20251026T010000
END:STANDARD
BEGIN:DAYLIGHT
TZOFFSETFROM:+0100
TZOFFSETTO:+0200
TZNAME:CEST
DTSTART:20260329T010000
END:DAYLIGHT
BEGIN:STANDARD
TZOFFSETFROM:+0200
TZOFFSETTO:+0100
TZNAME:CET
DTSTART:20261025T010000
END:STANDARD
END:VTIMEZONE
BEGIN:VEVENT
DTSTART;TZID=Europe/Paris:20250930T200000
DTEND;TZID=Europe/Paris:20250930T200000
DTSTAMP:20260424T010609
CREATED:20230815T075546Z
LAST-MODIFIED:20250921T100123Z
UID:11724-1759262400-1759262400@vvwacker.nl
SUMMARY:Scheidsrechters bijeenkomst
DESCRIPTION:
URL:https://vvwacker.nl/event/scheidsrechters-bijeenkomst/
LOCATION:Drenthe
END:VEVENT
BEGIN:VEVENT
DTSTART;TZID=Europe/Paris:20250930T193000
DTEND;TZID=Europe/Paris:20250930T193000
DTSTAMP:20260424T010609
CREATED:20250212T095919Z
LAST-MODIFIED:20250917T162618Z
UID:1513-1759260600-1759260600@vvwacker.nl
SUMMARY:Bestuur/comm.leden vergadering
DESCRIPTION:Inlichtingen secretaris
URL:https://vvwacker.nl/event/bestuursvergadering-3/
LOCATION:VV Wacker\, Wiltenweg 1a\, de Wijk\, Drenthe\, 7957\, Nederland
CATEGORIES:Vergaderingen
END:VEVENT
BEGIN:VEVENT
DTSTART;TZID=Europe/Paris:20250924T200000
DTEND;TZID=Europe/Paris:20251022T200000
DTSTAMP:20260424T010609
CREATED:20250403T105750Z
LAST-MODIFIED:20250921T095924Z
UID:12868-1758744000-1761163200@vvwacker.nl
SUMMARY:Triville verg. bestuurskamer
DESCRIPTION:
URL:https://vvwacker.nl/event/triville-verg-bestuurskamer-2/
LOCATION:Drenthe
CATEGORIES:WIJC
END:VEVENT
BEGIN:VEVENT
DTSTART;TZID=Europe/Paris:20250903T200000
DTEND;TZID=Europe/Paris:20250903T200000
DTSTAMP:20260424T010609
CREATED:20250109T093345Z
LAST-MODIFIED:20250829T181526Z
UID:9954-1756929600-1756929600@vvwacker.nl
SUMMARY:Beker Wacker 1 - Oranje Zwart 1  20:00 uur
DESCRIPTION:
URL:https://vvwacker.nl/event/oefen-wacker-2-wacker-4-om-1100u/
LOCATION:Drenthe
END:VEVENT
BEGIN:VEVENT
DTSTART;TZID=Europe/Paris:20250831T130000
DTEND;TZID=Europe/Paris:20250831T130000
DTSTAMP:20260424T010609
CREATED:20250829T181646Z
LAST-MODIFIED:20250829T181646Z
UID:13037-1756645200-1756645200@vvwacker.nl
SUMMARY:Beker Wacker 1 - Oldemarkt 1  13:00 uur
DESCRIPTION:
URL:https://vvwacker.nl/event/beker-wacker-1-oldemarkt-1-1300-uur/
LOCATION:Drenthe
END:VEVENT
BEGIN:VEVENT
DTSTART;TZID=Europe/Paris:20250614T080000
DTEND;TZID=Europe/Paris:20250614T170000
DTSTAMP:20260424T010609
CREATED:20250102T134639Z
LAST-MODIFIED:20250102T134639Z
UID:12642-1749888000-1749920400@vvwacker.nl
SUMMARY:SJO Triville/Van Spijker jeugdtoernooi
DESCRIPTION:
URL:https://vvwacker.nl/event/sjo-triville-van-spijker-jeugdtoernooi/
LOCATION:Drenthe
CATEGORIES:WIJC
END:VEVENT
BEGIN:VEVENT
DTSTART;TZID=Europe/Paris:20250417T203000
DTEND;TZID=Europe/Paris:20250417T203000
DTSTAMP:20260424T010609
CREATED:20250403T105650Z
LAST-MODIFIED:20250403T105650Z
UID:12866-1744921800-1744921800@vvwacker.nl
SUMMARY:Triville verg. bestuurskamer
DESCRIPTION:
URL:https://vvwacker.nl/event/triville-verg-bestuurskamer/
LOCATION:Drenthe
CATEGORIES:WIJC
END:VEVENT
BEGIN:VEVENT
DTSTART;TZID=Europe/Paris:20250415T193000
DTEND;TZID=Europe/Paris:20250415T193000
DTSTAMP:20260424T010609
CREATED:20250403T094255Z
LAST-MODIFIED:20250403T105520Z
UID:11766-1744745400-1744745400@vvwacker.nl
SUMMARY:Triville verg. bestuurskamer
DESCRIPTION:
URL:https://vvwacker.nl/event/triville-voorlichting-teams-ouders/
LOCATION:Drenthe
CATEGORIES:WIJC
END:VEVENT
BEGIN:VEVENT
DTSTART;TZID=Europe/Paris:20240609T120000
DTEND;TZID=Europe/Paris:20240609T120000
DTSTAMP:20260424T010609
CREATED:20240514T155256Z
LAST-MODIFIED:20240514T155256Z
UID:12226-1717934400-1717934400@vvwacker.nl
SUMMARY:Vrienden van Wackerdag
DESCRIPTION:
URL:https://vvwacker.nl/event/vrienden-van-wackerdag/
LOCATION:Drenthe
END:VEVENT
BEGIN:VEVENT
DTSTART;VALUE=DATE:20240608
DTEND;VALUE=DATE:20240609
DTSTAMP:20260424T010609
CREATED:20240506T192440Z
LAST-MODIFIED:20240506T192440Z
UID:12204-1717804800-1717891199@vvwacker.nl
SUMMARY:Triville jeugdtoernooi
DESCRIPTION:
URL:https://vvwacker.nl/event/triville-jeugdtoernooi/
LOCATION:Drenthe
END:VEVENT
BEGIN:VEVENT
DTSTART;TZID=Europe/Paris:20240418T200000
DTEND;TZID=Europe/Paris:20240418T200000
DTSTAMP:20260424T010609
CREATED:20240223T142037Z
LAST-MODIFIED:20240223T142037Z
UID:12071-1713470400-1713470400@vvwacker.nl
SUMMARY:Oranjevereniging verg. bestuurskamer
DESCRIPTION:
URL:https://vvwacker.nl/event/oranjevereniging-verg-bestuurskamer/
LOCATION:Drenthe
CATEGORIES:Vergaderingen
END:VEVENT
BEGIN:VEVENT
DTSTART;TZID=Europe/Paris:20240416T190000
DTEND;TZID=Europe/Paris:20240416T190000
DTSTAMP:20260424T010609
CREATED:20240411T192102Z
LAST-MODIFIED:20240411T192102Z
UID:12136-1713294000-1713294000@vvwacker.nl
SUMMARY:Jeugdbestuur vergadering
DESCRIPTION:
URL:https://vvwacker.nl/event/jeugdbestuur-vergadering/
LOCATION:Drenthe
END:VEVENT
BEGIN:VEVENT
DTSTART;TZID=Europe/Paris:20240321T200000
DTEND;TZID=Europe/Paris:20240321T200000
DTSTAMP:20260424T010609
CREATED:20230520T104422Z
LAST-MODIFIED:20240223T141731Z
UID:11591-1711051200-1711051200@vvwacker.nl
SUMMARY:Oranjevereniging verg. bestuurskamer
DESCRIPTION:
URL:https://vvwacker.nl/event/vergadering-oranjevereniging-bestuurskamer-2/
LOCATION:Drenthe
CATEGORIES:Vergaderingen
END:VEVENT
BEGIN:VEVENT
DTSTART;TZID=Europe/Paris:20240127T143000
DTEND;TZID=Europe/Paris:20240127T143000
DTSTAMP:20260424T010609
CREATED:20240104T080023Z
LAST-MODIFIED:20240104T145811Z
UID:11726-1706365800-1706365800@vvwacker.nl
SUMMARY:oefenwedstrijd vrouwen Wacker tegen Oldemarkt
DESCRIPTION:
URL:https://vvwacker.nl/event/oefenwedstrijd-vrouwen-wacker-tegen-hollandscheveld/
LOCATION:Drenthe
END:VEVENT
BEGIN:VEVENT
DTSTART;TZID=Europe/Paris:20231124T200000
DTEND;TZID=Europe/Paris:20231124T200000
DTSTAMP:20260424T010609
CREATED:20231007T133024Z
LAST-MODIFIED:20231122T090109Z
UID:11816-1700856000-1700856000@vvwacker.nl
SUMMARY:Kaartavond
DESCRIPTION:
URL:https://vvwacker.nl/event/kaartavond-2/
LOCATION:VV Wacker\, Wiltenweg 1a\, de Wijk\, Drenthe\, 7957\, Nederland
END:VEVENT
BEGIN:VEVENT
DTSTART;TZID=Europe/Paris:20231013T200000
DTEND;TZID=Europe/Paris:20231013T200000
DTSTAMP:20260424T010609
CREATED:20230915T073950Z
LAST-MODIFIED:20230915T093155Z
UID:2837-1697227200-1697227200@vvwacker.nl
SUMMARY:Kaart avond
DESCRIPTION:Supporters vereniging
URL:https://vvwacker.nl/event/kaart-avond-2/
LOCATION:VV Wacker\, Wiltenweg 1a\, de Wijk\, Drenthe\, 7957\, Nederland
CATEGORIES:Kaarten
END:VEVENT
BEGIN:VEVENT
DTSTART;TZID=Europe/Paris:20230831T193000
DTEND;TZID=Europe/Paris:20230831T193000
DTSTAMP:20260424T010609
CREATED:20230815T080234Z
LAST-MODIFIED:20230815T080234Z
UID:11728-1693510200-1693510200@vvwacker.nl
SUMMARY:Oefenwedstrijd Wacker 2 - Vitesse 2
DESCRIPTION:
URL:https://vvwacker.nl/event/oefenwedstrijd-wacker-2-vitesse-2/
LOCATION:Drenthe
END:VEVENT
BEGIN:VEVENT
DTSTART;VALUE=DATE:20230624
DTEND;VALUE=DATE:20230625
DTSTAMP:20260424T010609
CREATED:20230412T080854Z
LAST-MODIFIED:20230412T090446Z
UID:4179-1687564800-1687651199@vvwacker.nl
SUMMARY:Ooievaars toernooi
DESCRIPTION:Inlichtingen activiteitencommissie
URL:https://vvwacker.nl/event/ooievaars-toernooi/
LOCATION:Drenthe
END:VEVENT
BEGIN:VEVENT
DTSTART;TZID=Europe/Paris:20230526T193000
DTEND;TZID=Europe/Paris:20230526T193000
DTSTAMP:20260424T010609
CREATED:20230507T073542Z
LAST-MODIFIED:20230507T085239Z
UID:9095-1685129400-1685129400@vvwacker.nl
SUMMARY:35+ wedstrijden in De Wijk
DESCRIPTION:
URL:https://vvwacker.nl/event/35-wedstrijden-in-de-wijk/
LOCATION:Drenthe
CATEGORIES:Overzicht
END:VEVENT
BEGIN:VEVENT
DTSTART;TZID=Europe/Paris:20230420T200000
DTEND;TZID=Europe/Paris:20230420T200000
DTSTAMP:20260424T010609
CREATED:20221215T204933Z
LAST-MODIFIED:20221215T204933Z
UID:11323-1682020800-1682020800@vvwacker.nl
SUMMARY:vergadering technische commissie
DESCRIPTION:
URL:https://vvwacker.nl/event/vergadering-technische-commissie/
LOCATION:Drenthe
END:VEVENT
BEGIN:VEVENT
DTSTART;TZID=Europe/Paris:20230212T154500
DTEND;TZID=Europe/Paris:20230212T154500
DTSTAMP:20260424T010609
CREATED:20230127T173439Z
LAST-MODIFIED:20230127T173439Z
UID:11379-1676216700-1676216700@vvwacker.nl
SUMMARY:Opening "nieuwe" kantine
DESCRIPTION:
URL:https://vvwacker.nl/event/opening-nieuwe-kantine/
LOCATION:Drenthe
END:VEVENT
BEGIN:VEVENT
DTSTART;TZID=Europe/Paris:20221219T080000
DTEND;TZID=Europe/Paris:20230106T170000
DTSTAMP:20260424T010609
CREATED:20221214T104433Z
LAST-MODIFIED:20221214T104433Z
UID:11321-1671436800-1673024400@vvwacker.nl
SUMMARY:Accommodatie gesloten
DESCRIPTION:
URL:https://vvwacker.nl/event/accommodatie-gesloten/
LOCATION:Drenthe
END:VEVENT
BEGIN:VEVENT
DTSTART;TZID=Europe/Paris:20221029T190000
DTEND;TZID=Europe/Paris:20221029T190000
DTSTAMP:20260424T010609
CREATED:20221010T115159Z
LAST-MODIFIED:20221010T123053Z
UID:6699-1667070000-1667070000@vvwacker.nl
SUMMARY:Oktoberfeest bij Wacker
DESCRIPTION:
URL:https://vvwacker.nl/event/oktoberfeest-bij-wacker/
LOCATION:Drenthe
END:VEVENT
BEGIN:VEVENT
DTSTART;TZID=Europe/Paris:20220915T193000
DTEND;TZID=Europe/Paris:20220915T193000
DTSTAMP:20260424T010609
CREATED:20220905T120702Z
LAST-MODIFIED:20220910T132434Z
UID:11035-1663270200-1663270200@vvwacker.nl
SUMMARY:Bijeenkomst commissieleden en bestuursleden
DESCRIPTION:
URL:https://vvwacker.nl/event/bijeenkomst-commissieleden-en-bestuursleden/
LOCATION:Drenthe
CATEGORIES:Vergaderingen
END:VEVENT
BEGIN:VEVENT
DTSTART;VALUE=DATE:20210507
DTEND;VALUE=DATE:20210508
DTSTAMP:20260424T010609
CREATED:20210425T085429Z
LAST-MODIFIED:20210425T085429Z
UID:10290-1620345600-1620431999@vvwacker.nl
SUMMARY:Oranje festival
DESCRIPTION:
URL:https://vvwacker.nl/event/oranje-festival/
LOCATION:Drenthe
END:VEVENT
BEGIN:VEVENT
DTSTART;VALUE=DATE:20200919
DTEND;VALUE=DATE:20200920
DTSTAMP:20260424T010609
CREATED:20200702T110114Z
LAST-MODIFIED:20200702T110114Z
UID:9922-1600473600-1600559999@vvwacker.nl
SUMMARY:WIJC JO7 regiowedstrijden in De Wijk
DESCRIPTION:
URL:https://vvwacker.nl/event/wijc-jo7-regiowedstrijden-in-de-wijk/
LOCATION:Drenthe
CATEGORIES:WIJC
END:VEVENT
BEGIN:VEVENT
DTSTART;TZID=Europe/Paris:20200830T103000
DTEND;TZID=Europe/Paris:20200830T103000
DTSTAMP:20260424T010609
CREATED:20200714T093217Z
LAST-MODIFIED:20200714T093217Z
UID:9952-1598783400-1598783400@vvwacker.nl
SUMMARY:Oefen Balkbrug 4 - Wacker 4 om half 11
DESCRIPTION:
URL:https://vvwacker.nl/event/oefen-balkbrug-4-wacker-4-om-half-11/
LOCATION:Drenthe
END:VEVENT
BEGIN:VEVENT
DTSTART;TZID=Europe/Paris:20200830T103000
DTEND;TZID=Europe/Paris:20200830T103000
DTSTAMP:20260424T010609
CREATED:20200702T102547Z
LAST-MODIFIED:20200702T105843Z
UID:9916-1598783400-1598783400@vvwacker.nl
SUMMARY:Oefenwedstrijd Balkbrug2-Wacker3 om 10:30u
DESCRIPTION:
URL:https://vvwacker.nl/event/oefenwedstrijd-balkbrug2-wacker3-om-1030u/
LOCATION:Drenthe
CATEGORIES:Oefenwedstrijd
END:VEVENT
BEGIN:VEVENT
DTSTART;TZID=Europe/Paris:20200825T193000
DTEND;TZID=Europe/Paris:20200825T193000
DTSTAMP:20260424T010609
CREATED:20200721T165206Z
LAST-MODIFIED:20200721T165206Z
UID:9958-1598383800-1598383800@vvwacker.nl
SUMMARY:Oefen Wacker 2 - SVN'69 2
DESCRIPTION:
URL:https://vvwacker.nl/event/oefen-wacker-2-svn69-2/
LOCATION:Drenthe
END:VEVENT
BEGIN:VEVENT
DTSTART;TZID=Europe/Paris:20200822T100000
DTEND;TZID=Europe/Paris:20200822T100000
DTSTAMP:20260424T010609
CREATED:20200702T103239Z
LAST-MODIFIED:20200702T103239Z
UID:9920-1598090400-1598090400@vvwacker.nl
SUMMARY:Oefenwedstrijd JO19 - Rouveen JO19 om 10:00u
DESCRIPTION:
URL:https://vvwacker.nl/event/oefenwedstrijd-jo19-rouveen-jo19-om-1000u/
LOCATION:Drenthe
CATEGORIES:Oefenwedstrijd
END:VEVENT
END:VCALENDAR