BEGIN:VCALENDAR
VERSION:2.0
PRODID:-//VV Wacker - ECPv6.15.16//NONSGML v1.0//EN
CALSCALE:GREGORIAN
METHOD:PUBLISH
X-WR-CALNAME:VV Wacker
X-ORIGINAL-URL:https://vvwacker.nl
X-WR-CALDESC:Evenementen voor VV Wacker
REFRESH-INTERVAL;VALUE=DURATION:PT1H
X-Robots-Tag:noindex
X-PUBLISHED-TTL:PT1H
BEGIN:VTIMEZONE
TZID:Europe/Paris
BEGIN:DAYLIGHT
TZOFFSETFROM:+0100
TZOFFSETTO:+0200
TZNAME:CEST
DTSTART:20130331T010000
END:DAYLIGHT
BEGIN:STANDARD
TZOFFSETFROM:+0200
TZOFFSETTO:+0100
TZNAME:CET
DTSTART:20131027T010000
END:STANDARD
BEGIN:DAYLIGHT
TZOFFSETFROM:+0100
TZOFFSETTO:+0200
TZNAME:CEST
DTSTART:20140330T010000
END:DAYLIGHT
BEGIN:STANDARD
TZOFFSETFROM:+0200
TZOFFSETTO:+0100
TZNAME:CET
DTSTART:20141026T010000
END:STANDARD
BEGIN:DAYLIGHT
TZOFFSETFROM:+0100
TZOFFSETTO:+0200
TZNAME:CEST
DTSTART:20150329T010000
END:DAYLIGHT
BEGIN:STANDARD
TZOFFSETFROM:+0200
TZOFFSETTO:+0100
TZNAME:CET
DTSTART:20151025T010000
END:STANDARD
END:VTIMEZONE
BEGIN:VEVENT
DTSTART;TZID=Europe/Paris:20141231T143000
DTEND;TZID=Europe/Paris:20141231T143000
DTSTAMP:20260425T124357
CREATED:20141229T102823Z
LAST-MODIFIED:20141229T102941Z
UID:964-1420036200-1420036200@vvwacker.nl
SUMMARY:carbidbus schieten bij kantine
DESCRIPTION:Vanuit de businessclub wacker
URL:https://vvwacker.nl/event/carbidbus-schieten-oudjaar/
LOCATION:Drenthe
END:VEVENT
BEGIN:VEVENT
DTSTART;TZID=Europe/Paris:20141227T190000
DTEND;TZID=Europe/Paris:20141227T190000
DTSTAMP:20260425T124357
CREATED:20141210T100018Z
LAST-MODIFIED:20141210T151150Z
UID:709-1419706800-1419706800@vvwacker.nl
SUMMARY:Oliebollentoernooi
DESCRIPTION:
URL:https://vvwacker.nl/event/oliebollentoernooi/
LOCATION:VV Wacker\, Wiltenweg 1a\, de Wijk\, Drenthe\, 7957\, Nederland
END:VEVENT
END:VCALENDAR