BEGIN:VCALENDAR
VERSION:2.0
PRODID:-//VV Wacker - ECPv6.15.16//NONSGML v1.0//EN
CALSCALE:GREGORIAN
METHOD:PUBLISH
X-WR-CALNAME:VV Wacker
X-ORIGINAL-URL:https://vvwacker.nl
X-WR-CALDESC:Evenementen voor VV Wacker
REFRESH-INTERVAL;VALUE=DURATION:PT1H
X-Robots-Tag:noindex
X-PUBLISHED-TTL:PT1H
BEGIN:VTIMEZONE
TZID:Europe/Paris
BEGIN:DAYLIGHT
TZOFFSETFROM:+0100
TZOFFSETTO:+0200
TZNAME:CEST
DTSTART:20130331T010000
END:DAYLIGHT
BEGIN:STANDARD
TZOFFSETFROM:+0200
TZOFFSETTO:+0100
TZNAME:CET
DTSTART:20131027T010000
END:STANDARD
BEGIN:DAYLIGHT
TZOFFSETFROM:+0100
TZOFFSETTO:+0200
TZNAME:CEST
DTSTART:20140330T010000
END:DAYLIGHT
BEGIN:STANDARD
TZOFFSETFROM:+0200
TZOFFSETTO:+0100
TZNAME:CET
DTSTART:20141026T010000
END:STANDARD
BEGIN:DAYLIGHT
TZOFFSETFROM:+0100
TZOFFSETTO:+0200
TZNAME:CEST
DTSTART:20150329T010000
END:DAYLIGHT
BEGIN:STANDARD
TZOFFSETFROM:+0200
TZOFFSETTO:+0100
TZNAME:CET
DTSTART:20151025T010000
END:STANDARD
BEGIN:DAYLIGHT
TZOFFSETFROM:+0100
TZOFFSETTO:+0200
TZNAME:CEST
DTSTART:20160327T010000
END:DAYLIGHT
BEGIN:STANDARD
TZOFFSETFROM:+0200
TZOFFSETTO:+0100
TZNAME:CET
DTSTART:20161030T010000
END:STANDARD
BEGIN:DAYLIGHT
TZOFFSETFROM:+0100
TZOFFSETTO:+0200
TZNAME:CEST
DTSTART:20170326T010000
END:DAYLIGHT
BEGIN:STANDARD
TZOFFSETFROM:+0200
TZOFFSETTO:+0100
TZNAME:CET
DTSTART:20171029T010000
END:STANDARD
BEGIN:DAYLIGHT
TZOFFSETFROM:+0100
TZOFFSETTO:+0200
TZNAME:CEST
DTSTART:20180325T010000
END:DAYLIGHT
BEGIN:STANDARD
TZOFFSETFROM:+0200
TZOFFSETTO:+0100
TZNAME:CET
DTSTART:20181028T010000
END:STANDARD
BEGIN:DAYLIGHT
TZOFFSETFROM:+0100
TZOFFSETTO:+0200
TZNAME:CEST
DTSTART:20190331T010000
END:DAYLIGHT
BEGIN:STANDARD
TZOFFSETFROM:+0200
TZOFFSETTO:+0100
TZNAME:CET
DTSTART:20191027T010000
END:STANDARD
END:VTIMEZONE
BEGIN:VEVENT
DTSTART;TZID=Europe/Paris:20180114T140000
DTEND;TZID=Europe/Paris:20180114T140000
DTSTAMP:20260424T152412
CREATED:20150809T094232Z
LAST-MODIFIED:20180110T182109Z
UID:2081-1515938400-1515938400@vvwacker.nl
SUMMARY:Oefen USV 1-Wacker 1
DESCRIPTION:
URL:https://vvwacker.nl/event/oefenwedstrijd-wacker-vitesse63/
END:VEVENT
BEGIN:VEVENT
DTSTART;TZID=Europe/Paris:20171231T143000
DTEND;TZID=Europe/Paris:20171231T143000
DTSTAMP:20260424T152412
CREATED:20171218T135011Z
LAST-MODIFIED:20171218T135011Z
UID:6936-1514730600-1514730600@vvwacker.nl
SUMMARY:Oudejaarsborrel
DESCRIPTION:
URL:https://vvwacker.nl/event/oudejaarsborrel/
LOCATION:VV Wacker\, Wiltenweg 1a\, de Wijk\, Drenthe\, 7957\, Nederland
END:VEVENT
BEGIN:VEVENT
DTSTART;TZID=Europe/Paris:20170903T140000
DTEND;TZID=Europe/Paris:20170903T140000
DTSTAMP:20260424T152412
CREATED:20150826T080000Z
LAST-MODIFIED:20170803T091229Z
UID:2127-1504447200-1504447200@vvwacker.nl
SUMMARY:Bekerwedstrijd Wacker 1 - IJhorst 1
DESCRIPTION:
URL:https://vvwacker.nl/event/bekerwedstrijd-ruinerwold-2-wacker-2/
END:VEVENT
BEGIN:VEVENT
DTSTART;TZID=Europe/Paris:20170901T190000
DTEND;TZID=Europe/Paris:20170901T213000
DTSTAMP:20260424T152412
CREATED:20170803T090936Z
LAST-MODIFIED:20170803T090936Z
UID:6166-1504292400-1504301400@vvwacker.nl
SUMMARY:Vrienden van Wacker toernooi
DESCRIPTION:
URL:https://vvwacker.nl/event/vrienden-van-wacker-toernooi/
END:VEVENT
BEGIN:VEVENT
DTSTART;TZID=Europe/Paris:20170826T110000
DTEND;TZID=Europe/Paris:20170826T170000
DTSTAMP:20260424T152412
CREATED:20170819T134652Z
LAST-MODIFIED:20170819T134652Z
UID:6172-1503745200-1503766800@vvwacker.nl
SUMMARY:Regio toernooi bij Vitesse '63
DESCRIPTION:
URL:https://vvwacker.nl/event/regio-toernooi-bij-vitesse-63/
END:VEVENT
BEGIN:VEVENT
DTSTART;TZID=Europe/Paris:20170518T200000
DTEND;TZID=Europe/Paris:20170518T200000
DTSTAMP:20260424T152412
CREATED:20170509T073731Z
LAST-MODIFIED:20170509T073731Z
UID:5990-1495137600-1495137600@vvwacker.nl
SUMMARY:KNVB voorlichting tbv jeugdvoetbal
DESCRIPTION:Meld je aan bij iemand van de werkgroep \nWerkgroep WIJC nieuwe spelvormen.\nMarcel Luttel\, Roelof Nijenbrink\, Sylvester Ponsen\, Roelof Linthorst en Hèlen van Elven
URL:https://vvwacker.nl/event/knvb-voorlichting-tbv-jeugdvoetbal/
CATEGORIES:Vergaderingen
END:VEVENT
BEGIN:VEVENT
DTSTART;TZID=Europe/Paris:20170513T090000
DTEND;TZID=Europe/Paris:20170513T110000
DTSTAMP:20260424T152412
CREATED:20170427T111643Z
LAST-MODIFIED:20170427T111643Z
UID:5932-1494666000-1494673200@vvwacker.nl
SUMMARY:JO7 wedstrijden in  De Wijk
DESCRIPTION:114835\n2\n13-5-2017\n9:00\n\nVitesse’63 JO7-1\nDVSV JO7-1\n\n Sportpark De Wijk\n\n\n114807\n2\n13-5-2017\n9:15\n\nDVSV JO7-1\nSJO WIJC JO7-1\n\n Sportpark De Wijk\n\n\n114803\n2\n13-5-2017\n9:30\n\nRuinerwold JO7-1\nHavelte JO7-1\n\n Sportpark De Wijk\n\n\n114820\n2\n13-5-2017\n9:45\n\nSJO WIJC JO7-1\nVitesse’63 JO7-1\n\n Sportpark De Wijk\n\n\n114812\n2\n13-5-2017\n10:00\n\nDVSV JO7-1\nRuinerwold JO7-1\n\n Sportpark De Wijk\n\n\n114830\n2\n13-5-2017\n10:15\n\nHavelte JO7-1\nSJO WIJC JO7-1\n\n Sportpark De Wijk
URL:https://vvwacker.nl/event/jo7-wedstrijden-in-de-wijk/
END:VEVENT
BEGIN:VEVENT
DTSTART;VALUE=DATE:20170212
DTEND;VALUE=DATE:20170213
DTSTAMP:20260424T152412
CREATED:20170123T130750Z
LAST-MODIFIED:20170123T130848Z
UID:5388-1486857600-1486943999@vvwacker.nl
SUMMARY:Aanvang competitie rest senioren
DESCRIPTION:
URL:https://vvwacker.nl/event/aanvang-competitie-rest-senioren/
END:VEVENT
BEGIN:VEVENT
DTSTART;TZID=Europe/Paris:20170109T200000
DTEND;TZID=Europe/Paris:20170109T200000
DTSTAMP:20260424T152412
CREATED:20150208T090744Z
LAST-MODIFIED:20161218T115612Z
UID:201-1483992000-1483992000@vvwacker.nl
SUMMARY:Bestuursvergadering
DESCRIPTION:Inlichtingen bij de secretaris
URL:https://vvwacker.nl/event/201/
LOCATION:VV Wacker\, Wiltenweg 1a\, de Wijk\, Drenthe\, 7957\, Nederland
CATEGORIES:Vergaderingen
END:VEVENT
BEGIN:VEVENT
DTSTART;TZID=Europe/Paris:20161029T183000
DTEND;TZID=Europe/Paris:20161029T183000
DTSTAMP:20260424T152412
CREATED:20161023T091852Z
LAST-MODIFIED:20161023T091852Z
UID:4778-1477765800-1477765800@vvwacker.nl
SUMMARY:Filmavond JO11 pupillen
DESCRIPTION:
URL:https://vvwacker.nl/event/filmavond-jo11-pupillen/
END:VEVENT
BEGIN:VEVENT
DTSTART;TZID=Europe/Paris:20161020T193000
DTEND;TZID=Europe/Paris:20161020T193000
DTSTAMP:20260424T152412
CREATED:20161009T162937Z
LAST-MODIFIED:20161009T162937Z
UID:4626-1476991800-1476991800@vvwacker.nl
SUMMARY:Competitie Ruinen 4 - Wacker 4
DESCRIPTION:
URL:https://vvwacker.nl/event/competitie-ruinen-4-wacker-4/
END:VEVENT
BEGIN:VEVENT
DTSTART;TZID=Europe/Paris:20160919T210000
DTEND;TZID=Europe/Paris:20160919T210000
DTSTAMP:20260424T152412
CREATED:20150816T093231Z
LAST-MODIFIED:20160907T095510Z
UID:98-1474318800-1474318800@vvwacker.nl
SUMMARY:Bestuursvergadering
DESCRIPTION:informatie secretaris
URL:https://vvwacker.nl/event/bestuursvergadering/
LOCATION:VV Wacker\, Wiltenweg 1a\, de Wijk\, Drenthe\, 7957\, Nederland
CATEGORIES:Vergaderingen
END:VEVENT
BEGIN:VEVENT
DTSTART;TZID=Europe/Paris:20160520T190000
DTEND;TZID=Europe/Paris:20160520T190000
DTSTAMP:20260424T152412
CREATED:20150423T083533Z
LAST-MODIFIED:20160425T093509Z
UID:1882-1463770800-1463770800@vvwacker.nl
SUMMARY:Wacker vrouwen (7X7) bij Steenwijkerwold
DESCRIPTION:20 mei\, 19:15\nMSC VR2 (zat) – Wacker VR1 (zat)\nSportpark Steenwijkwold\nBekijk\n\n\n\n\n20 mei\, 19:15\nSteenwijkerwold VR3 (zat) – DESZ VR3 (zat)\nSportpark Steenwijkwold\nBekijk\n\n\n\n\n20 mei\, 19:45\nMSC VR2 (zat) – Steenwijkerwold VR3 (zat)\nSportpark Steenwijkwold\nBekijk\n\n\n\n\n20 mei\, 19:45\nWacker VR1 (zat) – DESZ VR3 (zat)\nSportpark Steenwijkwold\nBekijk\n\n\n\n\n20 mei\, 20:15\nWacker VR1 (zat) – Steenwijkerwold VR3 (zat)\nSportpark Steenwijkwold\nBekijk\n\n\n\n\n20 mei\, 20:15\nDESZ VR3 (zat) – MSC VR2 (zat)\nSportpark Steenwijkwold\nBekijkj
URL:https://vvwacker.nl/event/wacker-vrouwen-7x7/
CATEGORIES:Bekerwedstrijd
END:VEVENT
BEGIN:VEVENT
DTSTART;TZID=Europe/Paris:20160506T190000
DTEND;TZID=Europe/Paris:20160506T190000
DTSTAMP:20260424T152412
CREATED:20160413T112400Z
LAST-MODIFIED:20160413T112400Z
UID:3711-1462561200-1462561200@vvwacker.nl
SUMMARY:Wacker vrouwen (7X7) bij MSC (Ezinge)
DESCRIPTION:06 mei\, 19:15\nSteenwijkerwold VR3 (zat) – DESZ VR3 (zat)\nSportpark Ezinge\nBekijk\n\n\n\n\n06 mei\, 19:15\nWacker VR1 (zat) – MSC VR2 (zat)\nSportpark Ezinge\nBekijk\n\n\n\n\n06 mei\, 19:45\nMSC VR2 (zat) – DESZ VR3 (zat)\nSportpark Ezinge\nBekijk\n\n\n\n\n06 mei\, 19:45\nWacker VR1 (zat) – Steenwijkerwold VR3 (zat)\nSportpark Ezinge\nBekijk\n\n\n\n\n06 mei\, 20:15\nMSC VR2 (zat) – Steenwijkerwold VR3 (zat)\nSportpark Ezinge\nBekijk\n\n\n\n\n06 mei\, 20:15\nDESZ VR3 (zat) – Wacker VR1 (zat)\nSportpark Ezinge\nBekijk
URL:https://vvwacker.nl/event/wacker-vrouwen-7x7-bij-msc-ezinge/
END:VEVENT
BEGIN:VEVENT
DTSTART;TZID=Europe/Paris:20160416T160000
DTEND;TZID=Europe/Paris:20160416T160000
DTSTAMP:20260424T152412
CREATED:20160405T115431Z
LAST-MODIFIED:20160405T115431Z
UID:3660-1460822400-1460822400@vvwacker.nl
SUMMARY:WIJC tenues en freestyler Josh
DESCRIPTION:
URL:https://vvwacker.nl/event/wijc-tenues-en-freestyler-josh/
LOCATION:VV Wacker\, Wiltenweg 1a\, de Wijk\, Drenthe\, 7957\, Nederland
END:VEVENT
BEGIN:VEVENT
DTSTART;TZID=Europe/Paris:20160415T194500
DTEND;TZID=Europe/Paris:20160415T194500
DTSTAMP:20260424T152412
CREATED:20160411T093056Z
LAST-MODIFIED:20160411T093056Z
UID:3694-1460749500-1460749500@vvwacker.nl
SUMMARY:Wacker 2 - VENO 2
DESCRIPTION:
URL:https://vvwacker.nl/event/wacker-2-veno-2/
END:VEVENT
BEGIN:VEVENT
DTSTART;TZID=Europe/Paris:20160318T190000
DTEND;TZID=Europe/Paris:20160318T190000
DTSTAMP:20260424T152412
CREATED:20160222T141719Z
LAST-MODIFIED:20160222T141719Z
UID:3464-1458327600-1458327600@vvwacker.nl
SUMMARY:7X7 wedstrijden (concept)
DESCRIPTION:Conceptindeling 7×7 voorjaarsreeks 1516
URL:https://vvwacker.nl/event/7x7-wedstrijden-concept/
END:VEVENT
BEGIN:VEVENT
DTSTART;TZID=Europe/Paris:20160311T194500
DTEND;TZID=Europe/Paris:20160311T194500
DTSTAMP:20260424T152412
CREATED:20160224T105418Z
LAST-MODIFIED:20160224T105418Z
UID:3471-1457725500-1457725500@vvwacker.nl
SUMMARY:Wacker 2 - Beilen 3
DESCRIPTION:
URL:https://vvwacker.nl/event/wacker-2-beilen-3/
CATEGORIES:Overzicht
END:VEVENT
BEGIN:VEVENT
DTSTART;TZID=Europe/Paris:20160210T090000
DTEND;TZID=Europe/Paris:20160210T090000
DTSTAMP:20260424T152412
CREATED:20160120T145847Z
LAST-MODIFIED:20160120T145847Z
UID:3301-1455094800-1455094800@vvwacker.nl
SUMMARY:Overdracht velden gemeente
DESCRIPTION:
URL:https://vvwacker.nl/event/overdracht-velden-gemeente/
LOCATION:VV Wacker\, Wiltenweg 1a\, de Wijk\, Drenthe\, 7957\, Nederland
CATEGORIES:Overzicht
END:VEVENT
BEGIN:VEVENT
DTSTART;TZID=Europe/Paris:20160126T200000
DTEND;TZID=Europe/Paris:20160126T200000
DTSTAMP:20260424T152412
CREATED:20160111T162251Z
LAST-MODIFIED:20160111T162251Z
UID:3286-1453838400-1453838400@vvwacker.nl
SUMMARY:Kantine planning
DESCRIPTION:inlichtingen: Jenny Benjamins
URL:https://vvwacker.nl/event/kantine-planning/
LOCATION:VV Wacker\, Wiltenweg 1a\, de Wijk\, Drenthe\, 7957\, Nederland
END:VEVENT
BEGIN:VEVENT
DTSTART;TZID=Europe/Paris:20151226T100000
DTEND;TZID=Europe/Paris:20151226T133000
DTSTAMP:20260424T152412
CREATED:20151215T181153Z
LAST-MODIFIED:20151215T181153Z
UID:3178-1451124000-1451136600@vvwacker.nl
SUMMARY:Kerstwandeling
DESCRIPTION:
URL:https://vvwacker.nl/event/kerstwandeling/
LOCATION:VV Wacker\, Wiltenweg 1a\, de Wijk\, Drenthe\, 7957\, Nederland
END:VEVENT
BEGIN:VEVENT
DTSTART;TZID=Europe/Paris:20151030T190000
DTEND;TZID=Europe/Paris:20151030T190000
DTSTAMP:20260424T152412
CREATED:20151012T095453Z
LAST-MODIFIED:20151012T095453Z
UID:2729-1446231600-1446231600@vvwacker.nl
SUMMARY:WIJC: Halloween Filmavond
DESCRIPTION:
URL:https://vvwacker.nl/event/wijc-halloween-filmavond/
END:VEVENT
BEGIN:VEVENT
DTSTART;TZID=Europe/Paris:20150903T193000
DTEND;TZID=Europe/Paris:20150903T193000
DTSTAMP:20260424T152412
CREATED:20150831T163520Z
LAST-MODIFIED:20150831T163520Z
UID:2153-1441308600-1441308600@vvwacker.nl
SUMMARY:Competitie Wacker 2 - Havelte 2
DESCRIPTION:
URL:https://vvwacker.nl/event/competitie-wacker-2-havelte-2/
END:VEVENT
BEGIN:VEVENT
DTSTART;TZID=Europe/Paris:20150625T200000
DTEND;TZID=Europe/Paris:20150625T200000
DTSTAMP:20260424T152412
CREATED:20150618T193156Z
LAST-MODIFIED:20150618T193156Z
UID:2011-1435262400-1435262400@vvwacker.nl
SUMMARY:Kantine bijeenkomst
DESCRIPTION:
URL:https://vvwacker.nl/event/kantine-bijeenkomst/
END:VEVENT
BEGIN:VEVENT
DTSTART;TZID=Europe/Paris:20141231T143000
DTEND;TZID=Europe/Paris:20141231T143000
DTSTAMP:20260424T152412
CREATED:20141229T102823Z
LAST-MODIFIED:20141229T102941Z
UID:964-1420036200-1420036200@vvwacker.nl
SUMMARY:carbidbus schieten bij kantine
DESCRIPTION:Vanuit de businessclub wacker
URL:https://vvwacker.nl/event/carbidbus-schieten-oudjaar/
END:VEVENT
BEGIN:VEVENT
DTSTART;TZID=Europe/Paris:20141227T190000
DTEND;TZID=Europe/Paris:20141227T190000
DTSTAMP:20260424T152412
CREATED:20141210T100018Z
LAST-MODIFIED:20141210T151150Z
UID:709-1419706800-1419706800@vvwacker.nl
SUMMARY:Oliebollentoernooi
DESCRIPTION:
URL:https://vvwacker.nl/event/oliebollentoernooi/
LOCATION:VV Wacker\, Wiltenweg 1a\, de Wijk\, Drenthe\, 7957\, Nederland
END:VEVENT
END:VCALENDAR