BEGIN:VCALENDAR
VERSION:2.0
PRODID:-//VV Wacker - ECPv6.15.16//NONSGML v1.0//EN
CALSCALE:GREGORIAN
METHOD:PUBLISH
X-WR-CALNAME:VV Wacker
X-ORIGINAL-URL:https://vvwacker.nl
X-WR-CALDESC:Evenementen voor VV Wacker
REFRESH-INTERVAL;VALUE=DURATION:PT1H
X-Robots-Tag:noindex
X-PUBLISHED-TTL:PT1H
BEGIN:VTIMEZONE
TZID:Europe/Paris
BEGIN:DAYLIGHT
TZOFFSETFROM:+0100
TZOFFSETTO:+0200
TZNAME:CEST
DTSTART:20250330T010000
END:DAYLIGHT
BEGIN:STANDARD
TZOFFSETFROM:+0200
TZOFFSETTO:+0100
TZNAME:CET
DTSTART:20251026T010000
END:STANDARD
BEGIN:DAYLIGHT
TZOFFSETFROM:+0100
TZOFFSETTO:+0200
TZNAME:CEST
DTSTART:20260329T010000
END:DAYLIGHT
BEGIN:STANDARD
TZOFFSETFROM:+0200
TZOFFSETTO:+0100
TZNAME:CET
DTSTART:20261025T010000
END:STANDARD
BEGIN:DAYLIGHT
TZOFFSETFROM:+0100
TZOFFSETTO:+0200
TZNAME:CEST
DTSTART:20270328T010000
END:DAYLIGHT
BEGIN:STANDARD
TZOFFSETFROM:+0200
TZOFFSETTO:+0100
TZNAME:CET
DTSTART:20271031T010000
END:STANDARD
END:VTIMEZONE
BEGIN:VEVENT
DTSTART;TZID=Europe/Paris:20260512T193000
DTEND;TZID=Europe/Paris:20260512T193000
DTSTAMP:20260423T182022
CREATED:20251208T075758Z
LAST-MODIFIED:20260420T171255Z
UID:1512-1778614200-1778614200@vvwacker.nl
SUMMARY:Bestuursvergadering
DESCRIPTION:Inlichtingen secretaris
URL:https://vvwacker.nl/event/bestuursvergadering-2/
LOCATION:VV Wacker\, Wiltenweg 1a\, de Wijk\, Drenthe\, 7957\, Nederland
CATEGORIES:Vergaderingen
END:VEVENT
BEGIN:VEVENT
DTSTART;TZID=Europe/Paris:20260522T200000
DTEND;TZID=Europe/Paris:20260522T200000
DTSTAMP:20260423T182022
CREATED:20250514T180305Z
LAST-MODIFIED:20260306T130851Z
UID:12940-1779480000-1779480000@vvwacker.nl
SUMMARY:De Wieker Pubquiz
DESCRIPTION:
URL:https://vvwacker.nl/event/pubquiz-kantine/
LOCATION:Drenthe
END:VEVENT
END:VCALENDAR